BEGIN:VCALENDAR
VERSION:2.0
PRODID:-//Strong Coasts - ECPv6.15.20//NONSGML v1.0//EN
CALSCALE:GREGORIAN
METHOD:PUBLISH
X-WR-CALNAME:Strong Coasts
X-ORIGINAL-URL:https://www.strongcoasts.org
X-WR-CALDESC:Events for Strong Coasts
REFRESH-INTERVAL;VALUE=DURATION:PT1H
X-Robots-Tag:noindex
X-PUBLISHED-TTL:PT1H
BEGIN:VTIMEZONE
TZID:America/New_York
BEGIN:DAYLIGHT
TZOFFSETFROM:-0500
TZOFFSETTO:-0400
TZNAME:EDT
DTSTART:20190310T070000
END:DAYLIGHT
BEGIN:STANDARD
TZOFFSETFROM:-0400
TZOFFSETTO:-0500
TZNAME:EST
DTSTART:20191103T060000
END:STANDARD
BEGIN:DAYLIGHT
TZOFFSETFROM:-0500
TZOFFSETTO:-0400
TZNAME:EDT
DTSTART:20200308T070000
END:DAYLIGHT
BEGIN:STANDARD
TZOFFSETFROM:-0400
TZOFFSETTO:-0500
TZNAME:EST
DTSTART:20201101T060000
END:STANDARD
BEGIN:DAYLIGHT
TZOFFSETFROM:-0500
TZOFFSETTO:-0400
TZNAME:EDT
DTSTART:20210314T070000
END:DAYLIGHT
BEGIN:STANDARD
TZOFFSETFROM:-0400
TZOFFSETTO:-0500
TZNAME:EST
DTSTART:20211107T060000
END:STANDARD
END:VTIMEZONE
BEGIN:VEVENT
DTSTART;TZID=America/New_York:20200922T140000
DTEND;TZID=America/New_York:20200922T150000
DTSTAMP:20260423T122125
CREATED:20200903T035417Z
LAST-MODIFIED:20200917T032951Z
UID:1523-1600783200-1600786800@www.strongcoasts.org
SUMMARY:STRONG COASTS WEBINAR: Food Equity & Science Communication Tactics
DESCRIPTION:GUEST SPEAKER\, DR. JOE BOZEMAN III\, will talk about climate change and social identity as it relates to the food-energy-water nexus and global environmental change. Some of his findings show that despite spending less than white households on food overall\, black and Latino households have more impact on the environment per dollar spent on food than white households. \nDr. Bozeman researches issues involving energy and environmental sustainability. He explores climate change and social identity as it relates to the foodenergy-water nexus and global environmental change. This research is intended to facilitate more effective climate change and food policy measures applicable to the U.S. and countries around the globe. \nDr. Bozeman is the Chair of the Gordon Research Seminar in industrial Ecology. He received his Ph.D. from the University of Illinois at\nChicago\, and is a member of the Institute for Environmental Science and Policy. He has given talks to diverse audiences ranging from policy makers to the general public to K-12. \nCLICK HERE TO REGISTER! \nDownload and share the flyer: \n \n \nSpeaker website: www.joebozeman.com \nRelated published work: “Overcoming climate change adaptation barriers: A study on food–energy–water impacts of the average American diet by demographic group” – https://doi.org/10.1111/jiec.12859 \nBio: Dr. Joe Bozeman III researches issues involving energy and environmental sustainability. He explores climate change and social identity as it relates to the food-energy-water-nexus and global environmental change. This research is intended to facilitate more effective climate change and food policy measures applicable to the U.S. and countries around the globe. \nSome of his published research findings to date show that white Americans disproportionately affect the environment by eating foods that require more water and release more greenhouse gases compared with foods that black and Latino individuals eat. A 2019 article published in Environmental Engineering Science (EES) found that despite spending less than white households on food overall\, black and Latino households have more impact on the environment per dollar spent on food than white households. He and his co-authors received the AEESP Mary Ann Liebert Award for publication Excellence in Environmental Engineering Science in 2020. The criteria are that the research addresses an important and relevant research question\, the research is significant and original\, the paper is well written\, and the research is substantial in scope and makes a consequential advancement in the field. \nDr. Joe Bozeman is the Chair of the Gordon Research Seminar in industrial Ecology. He received his Ph.D. from the University of Illinois at\nChicago\, and is a member of the Institute for Environmental Science and Policy. He has given talks to diverse audiences ranging from policy makers (e.g. Center for Health Equity Transformation (Northwestern))\, to the general public (e.g. the Field Museum’s Night of Ideas) to K-12 (North Park Elementary School).
URL:https://www.strongcoasts.org/event/strong-coasts-webinar-food-equity-science-communication-tactics/
LOCATION:Virtual
CATEGORIES:Strong Coasts Events
ATTACH;FMTTYPE=image/jpeg:https://www.strongcoasts.org/wp-content/uploads/2020/09/StrongCoasts_Events_Flyer_DrJoeBozeman_09_22_2020_HALFPage_small.jpg
ORGANIZER;CN="Strong Coasts":MAILTO:info@strongcoasts.org
END:VEVENT
END:VCALENDAR